BEGIN:VCALENDAR
VERSION:2.0
PRODID:icalendar-ruby
CALSCALE:GREGORIAN
METHOD:PUBLISH
BEGIN:VEVENT
DTSTAMP:20260425T133312Z
UID:131-350360@hhumc.com
DTSTART:20260809T153000Z
DTEND:20260809T163000Z
CLASS:PUBLIC
CREATED:20260425T071927
DESCRIPTION:Sunday Worship
LAST-MODIFIED:20260425T071927
LOCATION:13222 Bandera Rd. | Helotes\, TX
SUMMARY:Sunday Worship
URL;VALUE=URI:https://www.hhumc.com/events/sunday-worship--131/2026-08-09
ATTACH;FILENAME=logo.png;FMTTYPE=image/png:https://dq5pwpg1q8ru0.cloudfront
 .net/2026/04/20/19/02/12/8b188df7-0503-4a17-b2d1-d447ea5c4594/logo.png
END:VEVENT
END:VCALENDAR
