BEGIN:VCALENDAR
VERSION:2.0
PRODID:icalendar-ruby
CALSCALE:GREGORIAN
METHOD:PUBLISH
BEGIN:VEVENT
DTSTAMP:20260424T195129Z
UID:131-349626@hhumc.com
DTSTART:20260503T153000Z
DTEND:20260503T163000Z
CLASS:PUBLIC
CREATED:20260424T131011
DESCRIPTION:Sunday Worship
LAST-MODIFIED:20260424T131011
LOCATION:13222 Bandera Rd. | Helotes\, TX
SUMMARY:Sunday Worship
URL;VALUE=URI:https://www.hhumc.com/events/sunday-worship--131/2026-05-03
ATTACH;FILENAME=logo.png;FMTTYPE=image/png:https://dq5pwpg1q8ru0.cloudfront
 .net/2026/04/20/19/02/12/8b188df7-0503-4a17-b2d1-d447ea5c4594/logo.png
END:VEVENT
END:VCALENDAR
