BEGIN:VCALENDAR
VERSION:2.0
PRODID:icalendar-ruby
CALSCALE:GREGORIAN
METHOD:PUBLISH
BEGIN:VEVENT
DTSTAMP:20260426T024048Z
UID:41-351233@hhumc.com
DTSTART:20260820T003000Z
DTEND:20260820T013000Z
CLASS:PUBLIC
CREATED:20260425T204612
DESCRIPTION:Hand Bell Rehearsal
LAST-MODIFIED:20260425T204612
LOCATION:Sanctuary
SUMMARY:Hand Bell Rehearsal
URL;VALUE=URI:https://www.hhumc.com/events/hand-bell-rehearsal/2026-08-19
ATTACH;FILENAME=handbells.jpg;FMTTYPE=image/jpeg:https://dq5pwpg1q8ru0.clou
 dfront.net/2025/08/04/23/26/01/2a0539f9-d39f-4b58-b3c0-b3741f927d61/handbe
 lls.jpg
END:VEVENT
END:VCALENDAR
